BEGIN:VCALENDAR
VERSION:2.0
PRODID:-//wp-events-plugin.com//7.2.3.1//EN
BEGIN:VEVENT
UID:10@kammerchor-krefeld.com
DTSTART:20250524T190000Z
DTEND:20250525T190000Z
DTSTAMP:20250620T083303Z
URL:https://kammerchor-krefeld.com/events/von-irrtuemern-und-fantasien-ein
 -opern-und-operettenabend
SUMMARY:„Von Irrtümern und Fantasien - ein Opern- und Operettenabend“
DESCRIPTION:Ein Presseartikel zu unserem Auftritt. WZ vom 26.05.2025:\n"Mit
 reißend gesungene Karikaturen"\n&nbsp\;\n\n\n\n\n\nMusik u.a. von A. Lort
 zing\, J. Offenbach u.a.\nAnna Moog\, Sopran\nChristine Hoffmann\, Mezzoso
 pran\nAchim Hoffmann\, Bass\nMeghan Behiel\, Klavier\n\nKammerchor Krefeld
 \nLeitung: Roland Stuers\n\nSamstag\, 24.05.2025 20.00 Uhr (Einlass 19.00 
 Uhr)\nSonntag\, 25.05.2025 18.00 Uhr (Einlass 17.00 Uhr)\n\nHistorisches K
 lärwerk Uerdingen (Rundweg 20\, 47829 Krefeld)\n\nEintritt 15€ (Schüle
 r\, Studenten und Schwerbehinderte 8€\, Kinder bis 10 Jahre frei)\nKarte
 n über kalender.klaerwerk-krefeld und an der Abendkasse\n\n\n\n&nbsp\;\nW
 AS FÜR EIN PROBENWOCHENENDE……\n&nbsp\;\n- mit einem in jeder Hinsicht
  mitreißenden Chorleiter\; er ist in einer Person Sänger\, Schauspieler\
 , Dirigent\, Motivator und Didakt. Es macht Spaß\, ihn und uns als musika
 lische Einheit zu erleben\n- mit einer wachsenden Begeisterung für die We
 lt der komischen Oper mit ihrem Witz\, ihrer Satire und ihrer mutigen Gese
 llschaftskritik\n- mit einem Projekt\, das ansteckende Freude gemacht hat\
 , die sicher zu hören ist\, und an dem die Chorgemeinschaft gewachsen ist
 \n- mit praktischer Umsetzung des Trinkspruches "Glou Glou“ (aus „Die 
 schöne Helena“ von J Offenbach) abends in der Weinstube der Akademie in
  Herzogenrath\nEs hatte in jedem Fall etwas ganz Besonderes\, Euphorisiere
 ndes\, in jedem Fall etwas\, das große Vorfreude auf die Konzertabende au
 slöste.\n\nÜberzeugt Euch selbst am 24. u 25. Mai im Klärwerk\, denn "S
 ingen\, singen ist unser ganzes Leben“ (aus „Der Wildschütz“ von A.
  Lortzing)\n\n&nbsp\;\n\n\n\n\n\n&nbsp\;\n\n&nbsp\;
END:VEVENT
END:VCALENDAR