BEGIN:VCALENDAR
VERSION:2.0
PRODID:-//wp-events-plugin.com//7.2.3.1//EN
BEGIN:VEVENT
UID:12@kammerchor-krefeld.com
DTSTART:20260531T183000Z
DTEND:20260531T183000Z
DTSTAMP:20260316T092037Z
URL:https://kammerchor-krefeld.com/events/liebe-in-zeiten-der
SUMMARY:„Liebe in Zeiten der…“
DESCRIPTION:&nbsp\;\n\n\n\n\n\nChormusik der Renaissance\, der Klassik und 
 Romantik\nmit Werken von\nOrlando di Lasso\, Joseph Haydn\, Gabriel Faurè
  und anderen.\nKammerchor Krefeld e.V.\nMeghan Behiel\, Klavier\nRoland St
 uers\, Leitung\nEintritt 15€\nSchwerbehinderte\,\nSchüler und Auszubild
 ende 8€\nKinder bis 10 Jahren frei\nKartenvorverkauf über das Klärwerk
  und bei Chormitgliedern\n\n\n\n\n \n&nbsp\;\n\n&nbsp\;
END:VEVENT
END:VCALENDAR