BEGIN:VCALENDAR
VERSION:2.0
PRODID:-//wp-events-plugin.com//7.2.3.1//EN
BEGIN:VEVENT
UID:11@kammerchor-krefeld.com
DTSTART:20251129T200000Z
DTEND:20251129T200000Z
DTSTAMP:20250930T063834Z
URL:https://kammerchor-krefeld.com/events/konzert-zum-1-advent
SUMMARY:Konzert zum 1. Advent
DESCRIPTION:Sa 29.11\, 20.00 In der Elisabethkirche\nKammerchor Krefeld\nSo
 pran: Anna Moog\nKlavier: Meghan Behiel\nLeitung: Roland Stuers\nWeitere I
 nfos folgen\n\n&nbsp\;
END:VEVENT
END:VCALENDAR